BEGIN:VCALENDAR
VERSION:2.0
PRODID:-//ChamberMaster//Event Calendar 2.0//EN
METHOD:PUBLISH
X-PUBLISHED-TTL:P3D
REFRESH-INTERVAL:P3D
CALSCALE:GREGORIAN
BEGIN:VEVENT
DTSTART:20181101T123000Z
DTEND:20181101T210000Z
X-MICROSOFT-CDO-ALLDAYEVENT:FALSE
SUMMARY:Unify HR presented by Anderson University
DESCRIPTION:Important Information\n\n\n\nDate - November 1\, 2018\n\n\n\nLocation   Anderson University Student Center\n\n\n\n6 hours of SHRM and HRCI recertification (pending)\n\n\n\nCost - $99\n\n\n\n Register Now!\n\n\n\nMonies raised support student scholarships!
X-ALT-DESC;FMTTYPE=text/html:<u style="text-underline:single\;"><span style="language:en-US\;font-weight:bold\;"><span style="color:black\;"><span style="font-family:calibri\;"><span style="font-size:14.0pt\;">Important</span></span></span></span></u><u style="text-underline:single\;"><span style="language:en-US\;font-weight:bold\;vertical-align:baseline\;"><span style="color:black\;"><span style="font-family:calibri\;"><span style="font-size:14.0pt\;"> Information</span></span></span></span></u><br />\n<br />\n<span style="language:en-US\;"><span style="color:black\;"><span style="font-family:calibri\;"><span style="font-size:14.0pt\;">Date - November 1\, 2018</span></span></span></span><br />\n<br />\n<span style="language:en-US\;"><span style="color:black\;"><span style="font-family:calibri\;"><span style="font-size:14.0pt\;">Location &ndash\; Anderson University Student Center</span></span></span></span><br />\n<br />\n<span style="language:en-US\;"><span style="color:black\;"><span style="font-family:calibri\;"><span style="font-size:14.0pt\;">6 hours of SHRM and HRCI recertification (pending)</span></span></span></span><br />\n<br />\n<span style="language:en-US\;"><span style="color:black\;"><span style="font-family:calibri\;"><span style="font-size:14.0pt\;">Cost - $99</span></span></span></span><br />\n<br />\n&nbsp\;<u style="text-underline:single\;"><span style="language:en-US\;font-weight:bold\;"><span style="color:black\;"><span style="font-family:calibri\;"><span style="font-size:20.0pt\;"><a href="https://www.paypal.com/cgi-bin/webscr?cmd=_s-xclick&amp\;hosted_button_id=DJEVQ35RT69Y4">Register Now!</a></span></span></span></span></u><br />\n<br />\n<span style="language:en-US\;font-style:italic\;"><span style="color:black\;"><span style="font-family:calibri\;"><span style="font-size:14.0pt\;">Monies raised support student scholarships!</span></span></span></span><br />\n<br />\n&nbsp\;
LOCATION:Anderson Unviersity Student Center 316 Boulevard Anderson\, SC
UID:e.3091.7552
SEQUENCE:3
DTSTAMP:20260425T211714Z
URL:http://andersonsc.chambermaster.com/events/details/unify-hr-presented-by-anderson-university-7552
END:VEVENT

END:VCALENDAR
