BEGIN:VCALENDAR
VERSION:2.0
PRODID:-//ChamberMaster//Event Calendar 2.0//EN
METHOD:PUBLISH
X-PUBLISHED-TTL:P3D
REFRESH-INTERVAL:P3D
CALSCALE:GREGORIAN
BEGIN:VEVENT
DTSTART:20170106T140000Z
DTEND:20170106T170000Z
X-MICROSOFT-CDO-ALLDAYEVENT:FALSE
SUMMARY:Tri-County Technical College Job Fair
DESCRIPTION:*Tri-County Technical College - Corporate & Community Education*Job Fair*Friday\, January 6\, 2017\; 9:00 am until 12:00 pm*Tri-County Technical College\, IBDC Building\, Pendleton\, SC*Pondering a career change\, come to this once a year event\,  to talk to all the resources in the Anderson-Oconee-Pickens counties*Come meet employers with real job openings*Talk about financial assistance & scholarships for re-trianing*Come find out how to LEARN MORE\, EARN MORE & DO MORE*For additional information call (864) 646-1700 or visit www.tctc.edu/learn
X-ALT-DESC;FMTTYPE=text/html:<p>*Tri-County Technical College - Corporate &amp\; Community Education</p><p>*Job Fair</p><p>*Friday\, January 6\, 2017\; 9:00 am until 12:00 pm</p><p>*Tri-County Technical College\, IBDC Building\, Pendleton\, SC</p><p>*Pondering a career change\, come to this once a year event\, &nbsp\;to talk to all the resources in the Anderson-Oconee-Pickens counties</p><p>*Come meet employers with real job openings</p><p>*Talk about financial assistance &amp\; scholarships for re-trianing</p><p>*Come find out how to LEARN MORE\, EARN MORE &amp\; DO MORE</p><p>*For additional information call (864) 646-1700 or visit <a href="http://www.tctc.edu/learn">www.tctc.edu/learn</a> </p>
LOCATION:
UID:e.3091.3662
SEQUENCE:3
DTSTAMP:20260425T021758Z
URL:http://andersonsc.chambermaster.com/events/details/tri-county-technical-college-job-fair-3662
END:VEVENT

END:VCALENDAR
