BEGIN:VCALENDAR
VERSION:2.0
PRODID:-//ChamberMaster//Event Calendar 2.0//EN
METHOD:PUBLISH
X-PUBLISHED-TTL:P3D
REFRESH-INTERVAL:P3D
CALSCALE:GREGORIAN
BEGIN:VEVENT
DTSTART:20210630T150000Z
DTEND:20210630T040000Z
X-MICROSOFT-CDO-ALLDAYEVENT:FALSE
SUMMARY:Ribbon Cutting Helix Solutions
DESCRIPTION:Please join us to celebrate Helix Solutions Ribbon Cutting\, Wednesday\, June 30\, 2021.
X-ALT-DESC;FMTTYPE=text/html:Please join us to celebrate Helix Solutions Ribbon Cutting\, Wednesday\, June 30\, 2021.
LOCATION:Helix Solutions 100 Vance St. Suite 7 Pendleton\, SC 29670
UID:e.3091.11304
SEQUENCE:3
DTSTAMP:20260419T143047Z
URL:http://andersonsc.chambermaster.com/events/details/ribbon-cutting-helix-solutions-11304
END:VEVENT

END:VCALENDAR
