BEGIN:VCALENDAR
VERSION:2.0
PRODID:-//ChamberMaster//Event Calendar 2.0//EN
METHOD:PUBLISH
X-PUBLISHED-TTL:P3D
REFRESH-INTERVAL:P3D
CALSCALE:GREGORIAN
BEGIN:VEVENT
DTSTART:20190925T200000Z
DTEND:20190925T210000Z
X-MICROSOFT-CDO-ALLDAYEVENT:FALSE
SUMMARY:Ribbon Cutting for RE/MAX Executive
DESCRIPTION:Please join us for a Ribbon Cutting for RE/MAX Executive on Wednesday\, September 25\, 2019 at 4:00 PM! The Ribbon Cutting will be held at 100 A Miracle Mile Drive\, Anderson\, SC 29621.
X-ALT-DESC;FMTTYPE=text/html:<span style="font-size: small\;">Please join us for a Ribbon Cutting for RE/MAX Executive on Wednesday\, September 25\, 2019 at 4:00 PM! The Ribbon Cutting will be held at 100 A Miracle Mile Drive\, Anderson\, SC 29621.</span>
LOCATION:100 A Miracle Mile Drive Anderson\, SC 29621
UID:e.3091.8879
SEQUENCE:3
DTSTAMP:20260426T040824Z
URL:http://andersonsc.chambermaster.com/events/details/ribbon-cutting-for-re-max-executive-8879
END:VEVENT

END:VCALENDAR
