BEGIN:VCALENDAR
VERSION:2.0
PRODID:-//ChamberMaster//Event Calendar 2.0//EN
METHOD:PUBLISH
X-PUBLISHED-TTL:P3D
REFRESH-INTERVAL:P3D
CALSCALE:GREGORIAN
BEGIN:VEVENT
DTSTART:20180728T213000Z
DTEND:20180728T230000Z
X-MICROSOFT-CDO-ALLDAYEVENT:FALSE
SUMMARY:Partner Yoga with Tyler Powers
DESCRIPTION:Grab your buddy - it's time for Partner Yoga with Tyler Powers at 90 Degrees Yoga Anderson!\n\n\n\nPartner Yoga is fun and playful\, and students will get a chance to learn and build trust - and to also be trusted! There are a myriad of postures designed to help students receive the benefits of yoga alongside a friend of partner\, including balancing poses\, breathing exercises\, twists\, and even a few inversions. Partner yoga is relaxing\, lighthearted\, and can even be a bit hilarious here and there!\n\n\n\nThis class will not be heated\, and your "partner" does not have to be romantic - friends and family are invited as well! And if you don't have a partner - no worries! Come be a part of the group and just enjoy the class! No experience is necessary to join in - all are welcome!\n\n\n\nClass will be an hour and a half\, and afterwards\, we will have snacks and drinks for everyone to enjoy. It's a perfect way to spend a Saturday night!\n\n\n\nEach person must sign-up individually. Registration can be done online or in person\, and please feel free to contact us with any questions! See you (and your partner) at the studio!\n\n\n\nSaturday\, July 28\, 5:30 pm\n\n$18/person\n\n\n\n90 Degrees Yoga Anderson\n\n122 Commons Parkway\n\nAnderson\, SC 29621\n\n\n\n864-328-3288\n\nwww.90degreesanderson.com\n\n90degreesanderson@gmail.com
X-ALT-DESC;FMTTYPE=text/html:<span style="color:rgb(29\, 33\, 41)\; font-family:system-ui\,-apple-system\,system-ui\,.sfnstext-regular\,sans-serif\; font-size:14px">Grab your buddy - it&#39\;s time for Partner Yoga with&nbsp\;</span><a href="https://www.facebook.com/tyler.powers.129" style="color: rgb(54\, 88\, 153)\; cursor: pointer\; text-decoration-line: none\; font-family: system-ui\, -apple-system\, system-ui\, &quot\;.SFNSText-Regular&quot\;\, sans-serif\; font-size: 14px\;" target="_blank">Tyler Powers</a><span style="color:rgb(29\, 33\, 41)\; font-family:system-ui\,-apple-system\,system-ui\,.sfnstext-regular\,sans-serif\; font-size:14px">&nbsp\;at&nbsp\;</span><a href="https://www.facebook.com/90DegreesAnderson/" style="color: rgb(54\, 88\, 153)\; cursor: pointer\; text-decoration-line: none\; font-family: system-ui\, -apple-system\, system-ui\, &quot\;.SFNSText-Regular&quot\;\, sans-serif\; font-size: 14px\;" target="_blank">90 Degrees Yoga Anderson</a><span style="color:rgb(29\, 33\, 41)\; font-family:system-ui\,-apple-system\,system-ui\,.sfnstext-regular\,sans-serif\; font-size:14px">!</span><br />\n<br />\n<span style="color:rgb(29\, 33\, 41)\; font-family:system-ui\,-apple-system\,system-ui\,.sfnstext-regular\,sans-serif\; font-size:14px">Partner Yoga is fun and playful\, and students will get a chance to learn and build trust - and to also be trusted! There are a myriad of postures designed to help students receive the benefits of yoga alongside a friend of partner\, including balancing poses\, breathing exercises\, twists\, and even a few inversions. Partner yoga is relaxing\, lighthearted\, and can even be a bit hilarious here and there!</span><br />\n<br />\n<span style="color:rgb(29\, 33\, 41)\; font-family:system-ui\,-apple-system\,system-ui\,.sfnstext-regular\,sans-serif\; font-size:14px">This class will not be heated\, and your &quot\;partner&quot\; does not have to be romantic - friends and family are invited as well! And if you don&#39\;t have a partner - no worries! Come be a part of the group and just enjoy the class! No experience is necessary to join in - all are welcome!</span><br />\n<br />\n<span style="color:rgb(29\, 33\, 41)\; font-family:system-ui\,-apple-system\,system-ui\,.sfnstext-regular\,sans-serif\; font-size:14px">Class will be an hour and a half\, and afterwards\, we will have snacks and drinks for everyone to enjoy. It&#39\;s a perfect way to spend a Saturday night!</span><br />\n<br />\n<span style="color:rgb(29\, 33\, 41)\; font-family:system-ui\,-apple-system\,system-ui\,.sfnstext-regular\,sans-serif\; font-size:14px">Each person must sign-up individually. Registration can be done online or in person\, and please feel free to contact us with any questions! See you (and your partner) at the studio!</span><br />\n<br />\n<span style="color:rgb(29\, 33\, 41)\; font-family:system-ui\,-apple-system\,system-ui\,.sfnstext-regular\,sans-serif\; font-size:14px">Saturday\, July 28\, 5:30 pm</span><br />\n<span style="color:rgb(29\, 33\, 41)\; font-family:system-ui\,-apple-system\,system-ui\,.sfnstext-regular\,sans-serif\; font-size:14px">$18/person</span><br />\n<br />\n<span style="color:rgb(29\, 33\, 41)\; font-family:system-ui\,-apple-system\,system-ui\,.sfnstext-regular\,sans-serif\; font-size:14px">90 Degrees Yoga Anderson</span><br />\n<span style="color:rgb(29\, 33\, 41)\; font-family:system-ui\,-apple-system\,system-ui\,.sfnstext-regular\,sans-serif\; font-size:14px">122 Commons Parkway</span><br />\n<span style="color:rgb(29\, 33\, 41)\; font-family:system-ui\,-apple-system\,system-ui\,.sfnstext-regular\,sans-serif\; font-size:14px">Anderson\, SC 29621</span><br />\n<br />\n<span style="color:rgb(29\, 33\, 41)\; font-family:system-ui\,-apple-system\,system-ui\,.sfnstext-regular\,sans-serif\; font-size:14px">864-328-3288</span><br />\n<a href="https://l.facebook.com/l.php?u=http%3A%2F%2Fwww.90degreesanderson.com%2F&amp\;h=ATOs87efp2ZaP_jj1F5GhBlwnEUwEUIaGCpYNxFENeWKGXnVzayxrnRVNT6u3Uwelqy07tfnWafsG_QGrD7iG0Omyyb-LHQtYU58-xvxpQ4TJWjWACTaVQ&amp\;s=1" style="color: rgb(54\, 88\, 153)\; cursor: pointer\; text-decoration-line: none\; font-family: system-ui\, -apple-system\, system-ui\, &quot\;.SFNSText-Regular&quot\;\, sans-serif\; font-size: 14px\;" target="_blank">www.90degreesanderson.com</a><br />\n<span style="color:rgb(29\, 33\, 41)\; font-family:system-ui\,-apple-system\,system-ui\,.sfnstext-regular\,sans-serif\; font-size:14px">90degreesanderson@gmail.com</span>
LOCATION:90 Degrees Yoga Anderson 122 Commons Parkway Anderson\, SC 29621 Located in front of Lowe's and Target off Clemson Blvd 864-328-3288 www.90degreesanderson.com 90degreesanderson@gmail.com
UID:e.3091.7415
SEQUENCE:3
DTSTAMP:20260426T040345Z
URL:http://andersonsc.chambermaster.com/events/details/partner-yoga-with-tyler-powers-7415
END:VEVENT

END:VCALENDAR
