BEGIN:VCALENDAR
VERSION:2.0
PRODID:-//ChamberMaster//Event Calendar 2.0//EN
METHOD:PUBLISH
X-PUBLISHED-TTL:P3D
REFRESH-INTERVAL:P3D
CALSCALE:GREGORIAN
BEGIN:VEVENT
DTSTART:20211119T130000Z
DTEND:20211119T140000Z
X-MICROSOFT-CDO-ALLDAYEVENT:FALSE
SUMMARY:netWorks - Helix Solutions
DESCRIPTION:netWorks is a FREE leads group. There is LIMITED seating and an RSVP is required! Each attendee will be given an opportunity to speak about their business and listen to our keynote speaker! \n\nGuest Speaker: Heather Marks Owner Helix Solutions
X-ALT-DESC;FMTTYPE=text/html:<p><span style="color: rgb(29\, 33\, 41)\; font-family: Helvetica\, Arial\, sans-serif\; font-size: 14px\; white-space: pre-wrap\;">netWorks is a FREE leads group. There is LIMITED seating and an RSVP is required! Each attendee will be given an opportunity to speak about their business and listen to our keynote speaker! </span><br />\nGuest Speaker: Heather Marks Owner Helix Solutions&nbsp\;</p>\n\n<p><br />\n&nbsp\;</p>\n
LOCATION:Helix Solutions 100 Vance Street Suite 7 Pendleton\, SC 29670
UID:e.3091.11314
SEQUENCE:3
DTSTAMP:20260421T231751Z
URL:http://andersonsc.chambermaster.com/events/details/networks-helix-solutions-11314
END:VEVENT

END:VCALENDAR
