BEGIN:VCALENDAR
VERSION:2.0
PRODID:-//ChamberMaster//Event Calendar 2.0//EN
METHOD:PUBLISH
X-PUBLISHED-TTL:P3D
REFRESH-INTERVAL:P3D
CALSCALE:GREGORIAN
BEGIN:VEVENT
DTSTART:20170713T220000Z
DTEND:20170713T220000Z
X-MICROSOFT-CDO-ALLDAYEVENT:FALSE
SUMMARY:Mental Health Forum
DESCRIPTION:You are cordially invited to attend a Community Forum highlighting Mental Health services in Anderson\, Oconee & Pickens Counties\n\nJoin Mr. John H. Magill\, Department of Mental Health State Director\, Mr. Kevin W. Hoyle\, Anderson-Oconee-Pickens Mental Health Center Director\, and Mr. Allen McEniry\, Patrick B. Harris Psychiatric Hospital Director\n\nThursday\, July 13\, 2017 starting at 6:00 pm\n\nG. Ross Anderson\, Jr. Student Center\, 2nd Floor Theatre\n\nThis forum will:\n\n\n	Highlight services offered at the local Community Mental Health Center\n	Spotlight services offered at Harris Psychiatric Hospital\n	Focus on Community Partnerships\n	Facilitate discussion on continuning to improve methods of delivering effective mental health treatment\n	Discus new Psychiatric Nurse Practitioner Program at Anderson University and emerging trends in behavioral healthcare delivery by Psychiatric Nurse Practitioners\n\n\nMental illness affects the whole community\n\nThe goal is to collaborate with community partners to best serve and meet the needs of our commuities\n\nFor additional information contact Susan Morgan to confirm your attendance by email at http://susan.morgan@scdmh.org or by telephone at 864.965.9222
X-ALT-DESC;FMTTYPE=text/html:<p>You are cordially invited to attend a Community Forum highlighting Mental Health services in Anderson\, Oconee &amp\; Pickens Counties</p>\n\n<p>Join Mr. John H. Magill\, Department of Mental Health State Director\, Mr. Kevin W. Hoyle\, Anderson-Oconee-Pickens Mental Health Center Director\, and Mr. Allen McEniry\, Patrick B. Harris Psychiatric Hospital Director</p>\n\n<p>Thursday\, July 13\, 2017 starting at 6:00 pm</p>\n\n<p>G. Ross Anderson\, Jr. Student Center\, 2nd Floor Theatre</p>\n\n<p>This forum will:</p>\n\n<ul>\n	<li>Highlight services offered at the local Community Mental Health Center</li>\n	<li>Spotlight services offered at Harris Psychiatric Hospital</li>\n	<li>Focus on Community Partnerships</li>\n	<li>Facilitate discussion on continuning to improve methods of delivering effective mental health treatment</li>\n	<li>Discus new Psychiatric Nurse Practitioner Program at Anderson University and emerging trends in behavioral healthcare delivery by Psychiatric Nurse Practitioners</li>\n</ul>\n\n<p>Mental illness affects the whole community</p>\n\n<p>The goal is to collaborate with community partners to best serve and meet the needs of our commuities</p>\n\n<p>For additional information contact Susan Morgan to confirm your attendance by email at&nbsp\;<a href="http://susan.morgan@scdmh.org">http://susan.morgan@scdmh.org</a>&nbsp\;or by telephone at 864.965.9222</p>\n\n<p>&nbsp\;</p>\n
LOCATION:Anderson University G. Ross Anderson\, Jr Student Center 2nd Floor Theatre 316 Boulevard\, Anderson\, SC 29621
UID:e.3091.3859
SEQUENCE:3
DTSTAMP:20260420T210823Z
URL:http://andersonsc.chambermaster.com/events/details/mental-health-forum-3859
END:VEVENT

END:VCALENDAR
