BEGIN:VCALENDAR
VERSION:2.0
PRODID:-//ChamberMaster//Event Calendar 2.0//EN
METHOD:PUBLISH
X-PUBLISHED-TTL:P3D
REFRESH-INTERVAL:P3D
CALSCALE:GREGORIAN
BEGIN:VEVENT
DTSTART:20211122T140000Z
DTEND:20211123T220000Z
X-MICROSOFT-CDO-ALLDAYEVENT:FALSE
SUMMARY:Diabetes conferences
DESCRIPTION:Diabetes 2021 conference is cheerful to declare that "Global meeting on Diabetes and Endocrinology" has been scheduled on November 22-23\, 2021 at Dubai\, UAE. Theme: Modern medical research and application on diabetic condition & endocrinology function https://www.diabetes.scientexconference.com/
X-ALT-DESC;FMTTYPE=text/html:Diabetes 2021 conference is cheerful to declare that &ldquo\;Global meeting on Diabetes and Endocrinology&rdquo\; has been scheduled on November 22-23\, 2021 at Dubai\, UAE. Theme: Modern medical research and application on diabetic condition &amp\; endocrinology function https://www.diabetes.scientexconference.com/
LOCATION:Dubai\, UAE
UID:e.3091.11289
SEQUENCE:3
DTSTAMP:20260422T082509Z
URL:http://andersonsc.chambermaster.com/events/details/diabetes-conferences-11289
END:VEVENT

END:VCALENDAR
