BEGIN:VCALENDAR
VERSION:2.0
PRODID:-//ChamberMaster//Event Calendar 2.0//EN
METHOD:PUBLISH
X-PUBLISHED-TTL:P3D
REFRESH-INTERVAL:P3D
CALSCALE:GREGORIAN
BEGIN:VEVENT
DTSTART:20211203T210000Z
DTEND:20211204T000000Z
X-MICROSOFT-CDO-ALLDAYEVENT:FALSE
SUMMARY:Chamber Cookie Crawl
DESCRIPTION:There are wine crawls and bar crawls throughout the Upstate\, but few\n\ncrawls have families and children in mind. The Anderson Area Chamber of\n\nCommerce is proud to announce the County's first-ever\n\nChristmas Cookie Crawl. On Friday\, December 3rd\, just\n\nbefore the annual tree lighting ceremony\, participating\n\ndowntown businesses will open their doors to welcome\n\nshoppers and hand out Christmas cookies to visiting\n\nfamilies.
X-ALT-DESC;FMTTYPE=text/html:There are wine crawls and bar crawls throughout the Upstate\, but few<br />\ncrawls have families and children in mind. The Anderson Area Chamber of<br />\nCommerce is proud to announce the County&rsquo\;s first-ever<br />\nChristmas Cookie Crawl. On Friday\, December 3rd\, just<br />\nbefore the annual tree lighting ceremony\, participating<br />\ndowntown businesses will open their doors to welcome<br />\nshoppers and hand out Christmas cookies to visiting<br />\nfamilies.<br />\n&nbsp\;
LOCATION:
UID:e.3091.11351
SEQUENCE:3
DTSTAMP:20260422T202855Z
URL:http://andersonsc.chambermaster.com/events/details/chamber-cookie-crawl-11351
END:VEVENT

END:VCALENDAR
