BEGIN:VCALENDAR
VERSION:2.0
PRODID:-//ChamberMaster//Event Calendar 2.0//EN
METHOD:PUBLISH
X-PUBLISHED-TTL:P3D
REFRESH-INTERVAL:P3D
CALSCALE:GREGORIAN
BEGIN:VEVENT
DTSTART;VALUE=DATE:20220625
DTEND;VALUE=DATE:20220626
TRANSP:TRANSPARENT
X-MICROSOFT-CDO-ALLDAYEVENT:TRUE
SUMMARY:Car Show
DESCRIPTION:
X-ALT-DESC;FMTTYPE=text/html:
LOCATION:Logans Steak House 3402 Clemson Blvd Anderson
UID:e.3091.11494
SEQUENCE:3
DTSTAMP:20260425T144951Z
URL:http://andersonsc.chambermaster.com/events/details/car-show-11494
END:VEVENT

END:VCALENDAR
