BEGIN:VCALENDAR
VERSION:2.0
PRODID:-//ChamberMaster//Event Calendar 2.0//EN
METHOD:PUBLISH
X-PUBLISHED-TTL:P3D
REFRESH-INTERVAL:P3D
CALSCALE:GREGORIAN
BEGIN:VEVENT
DTSTART:20140425T220000Z
DTEND:20140426T020000Z
X-MICROSOFT-CDO-ALLDAYEVENT:FALSE
SUMMARY:Art on the Town
DESCRIPTION:The Electric City Arts ShowcaseEnjoy an Art Crawl along N. Main Street from 5 until 9\, and a "After Party" at Carolina Wren Park. Call Anderson Arts Center for ticket information 864-222-2787.
X-ALT-DESC;FMTTYPE=text/html:<p><span style="font-size:medium\;">The Electric City Arts Showcase</span></p><p><span style="font-size:medium\;">Enjoy an Art Crawl along N. Main Street from 5 until 9\, and a &ldquo\;After Party&rdquo\; at Carolina Wren Park. </span></p><p><span style="font-size:medium\;">Call Anderson Arts Center for ticket information 864-222-2787.</span></p>
LOCATION:
UID:e.3091.2839
SEQUENCE:3
DTSTAMP:20260423T202702Z
URL:http://andersonsc.chambermaster.com/events/details/art-on-the-town-2839
END:VEVENT

END:VCALENDAR
