BEGIN:VCALENDAR
VERSION:2.0
PRODID:-//ChamberMaster//Event Calendar 2.0//EN
METHOD:PUBLISH
X-PUBLISHED-TTL:P3D
REFRESH-INTERVAL:P3D
CALSCALE:GREGORIAN
BEGIN:VEVENT
DTSTART:20220625T130000Z
DTEND:20220625T170000Z
X-MICROSOFT-CDO-ALLDAYEVENT:FALSE
SUMMARY:Anderson Makers Market
DESCRIPTION:True Southern Events presents the first-ever Anderson Makers Market! Come join us at Rocky River in Anderson\, SC on June 25th from 9:00 am to 1:00 pm and support your local makers! Artists\, Crafters Foodies\, Farmers\, Merchants and More! 2000 E. River Street Anderson\, SC 29624 Are you interested in being a vendor at the Makers Market? Applications are open through May 9th! View & download the application on our website: https://www.truesouthernevents.com/events Let's be social! Follow along with event posts on social media using the hashtag #MakeYourMarkSC
X-ALT-DESC;FMTTYPE=text/html:True Southern Events presents the first-ever Anderson Makers Market! Come join us at Rocky River in Anderson\, SC on June 25th from 9:00 am to 1:00 pm and support your local makers! Artists\, Crafters Foodies\, Farmers\, Merchants and More! 2000 E. River Street Anderson\, SC 29624 Are you interested in being a vendor at the Makers Market? Applications are open through May 9th! View &amp\; download the application on our website: https://www.truesouthernevents.com/events Let&#39\;s be social! Follow along with event posts on social media using the hashtag #MakeYourMarkSC
LOCATION:Rocky River Plantation 2000 E. River Street Anderson\, SC 29624
UID:e.3091.11475
SEQUENCE:3
DTSTAMP:20260425T190849Z
URL:http://andersonsc.chambermaster.com/events/details/anderson-makers-market-11475
END:VEVENT

END:VCALENDAR
