BEGIN:VCALENDAR
VERSION:2.0
PRODID:-//ChamberMaster//Event Calendar 2.0//EN
METHOD:PUBLISH
X-PUBLISHED-TTL:P3D
REFRESH-INTERVAL:P3D
CALSCALE:GREGORIAN
BEGIN:VEVENT
DTSTART:20250422T230000Z
DTEND:20250423T000000Z
X-MICROSOFT-CDO-ALLDAYEVENT:FALSE
SUMMARY:An Evening with C. S. Lewis
DESCRIPTION:Good morning! Here is another upcoming Erskine event for your community calendars! Thanks so much\, Sadie --- Join us Tuesday\, April 22\, 2025 at 7:00 PM for "An Evening with C.S. Lewis\," performed by British actor and playwright David Payne. Payne has delighted Erskine audiences with past performances including "Lewis & Tolkien\, Of Wardrobes & Rings" and "Churchill." Admission is $5 for children under 16\, and $15 for all individuals 16 or older. We hope you will join us for this exciting performance! https://www.erskine.edu/event/cslewis/
X-ALT-DESC;FMTTYPE=text/html:Good morning! Here is another upcoming Erskine event for your community calendars! Thanks so much\, Sadie --- Join us Tuesday\, April 22\, 2025 at 7:00 PM for &quot\;An Evening with C.S. Lewis\,&quot\; performed by British actor and playwright David Payne. Payne has delighted Erskine audiences with past performances including &quot\;Lewis &amp\; Tolkien\, Of Wardrobes &amp\; Rings&quot\; and &quot\;Churchill.&quot\; Admission is $5 for children under 16\, and $15 for all individuals 16 or older. We hope you will join us for this exciting performance! https://www.erskine.edu/event/cslewis/
LOCATION:Memorial Hall\, Erskine College
UID:e.3091.11888
SEQUENCE:3
DTSTAMP:20260425T133236Z
URL:http://andersonsc.chambermaster.com/events/details/an-evening-with-c-s-lewis-11888
END:VEVENT

END:VCALENDAR
