BEGIN:VCALENDAR
VERSION:2.0
PRODID:-//ChamberMaster//Event Calendar 2.0//EN
METHOD:PUBLISH
X-PUBLISHED-TTL:P3D
REFRESH-INTERVAL:P3D
CALSCALE:GREGORIAN
BEGIN:VEVENT
DTSTART:20210521T230000Z
DTEND:20210522T020000Z
X-MICROSOFT-CDO-ALLDAYEVENT:FALSE
SUMMARY:30-Year Anniversary Gala
DESCRIPTION:Celebrating over 30 Years of Service in the Community\, AIM will host their 30th Anniversary Gala at Anderson's beloved Bleckley Station. Using the #AIMfor30 hashtag to gather stories throughout the year\, the impact that the organization has had on the community will be highlighted throughout the evening. Complete with a band\, food\, drinks\, and plenty of networking opportunities\, this will be an event you won't want to miss!
X-ALT-DESC;FMTTYPE=text/html:Celebrating over 30 Years of Service in the Community\, AIM will host their 30th Anniversary Gala at Anderson&#39\;s beloved Bleckley Station. Using the #AIMfor30 hashtag to gather stories throughout the year\, the impact that the organization has had on the community will be highlighted throughout the evening. Complete with a band\, food\, drinks\, and plenty of networking opportunities\, this will be an event you won&#39\;t want to miss!
LOCATION:Bleckley Station 310 South Main Street Anderson\, SC
UID:e.3091.10979
SEQUENCE:3
DTSTAMP:20260420T171832Z
URL:http://andersonsc.chambermaster.com/events/details/30-year-anniversary-gala-10979
END:VEVENT

END:VCALENDAR
