BEGIN:VCALENDAR
VERSION:2.0
PRODID:-//ChamberMaster//Event Calendar 2.0//EN
METHOD:PUBLISH
X-PUBLISHED-TTL:P3D
REFRESH-INTERVAL:P3D
CALSCALE:GREGORIAN
BEGIN:VEVENT
DTSTART:20171014T130000Z
DTEND:20171014T210000Z
X-MICROSOFT-CDO-ALLDAYEVENT:FALSE
SUMMARY:2017 Fall Harvest Festival
DESCRIPTION:2017 Fall Harvest Festival\n\nCome enjoy shopping & dining with local business\n\nOld Fashioned Childrens Games\n\nFood Vendors\n\nGreat Music\n\nScare Crow Contest\n\nQuality Crafts & More\n\nAshtabula Historic Home Tours 10:00 am until 4:00 pm Adults $6.00\; kids 5-10 $2.00\n\nFarmer's Hall Open House 10:00 am - 3:00 pm\n\nVintage Pickin in Pendleton @ the Clemson Little Theatre 9:00 am until 5:00 pm\n\nFor additonal information go to http://ohme.hubpages.com/hub/fall-festival
X-ALT-DESC;FMTTYPE=text/html:<p>2017 Fall Harvest Festival</p>\n\n<p>Come enjoy shopping &amp\; dining with local business</p>\n\n<p>Old Fashioned Childrens Games</p>\n\n<p>Food Vendors</p>\n\n<p>Great Music</p>\n\n<p>Scare Crow Contest</p>\n\n<p>Quality Crafts &amp\; More</p>\n\n<p>Ashtabula Historic Home Tours 10:00 am until 4:00 pm Adults $6.00\; kids 5-10 $2.00</p>\n\n<p>Farmer&#39\;s Hall Open House 10:00 am - 3:00 pm</p>\n\n<p>Vintage Pickin in Pendleton @ the Clemson Little Theatre 9:00 am until 5:00 pm</p>\n\n<p>For additonal information go to&nbsp\;<a href="http://ohme.hubpages.com/hub/fall-festival">http://ohme.hubpages.com/hub/fall-festival</a></p>\n
LOCATION:
UID:e.3091.3896
SEQUENCE:3
DTSTAMP:20260423T171517Z
URL:http://andersonsc.chambermaster.com/events/details/2017-fall-harvest-festival-3896
END:VEVENT

END:VCALENDAR
